BEGIN:VCALENDAR
VERSION:2.0
PRODID:-//Duurzaam Hintham - ECPv6.15.12.2//NONSGML v1.0//EN
CALSCALE:GREGORIAN
METHOD:PUBLISH
X-ORIGINAL-URL:https://duurzaamhintham.nl
X-WR-CALDESC:Evenementen voor Duurzaam Hintham
REFRESH-INTERVAL;VALUE=DURATION:PT1H
X-Robots-Tag:noindex
X-PUBLISHED-TTL:PT1H
BEGIN:VTIMEZONE
TZID:Europe/Amsterdam
BEGIN:DAYLIGHT
TZOFFSETFROM:+0100
TZOFFSETTO:+0200
TZNAME:CEST
DTSTART:20200329T010000
END:DAYLIGHT
BEGIN:STANDARD
TZOFFSETFROM:+0200
TZOFFSETTO:+0100
TZNAME:CET
DTSTART:20201025T010000
END:STANDARD
BEGIN:DAYLIGHT
TZOFFSETFROM:+0100
TZOFFSETTO:+0200
TZNAME:CEST
DTSTART:20210328T010000
END:DAYLIGHT
BEGIN:STANDARD
TZOFFSETFROM:+0200
TZOFFSETTO:+0100
TZNAME:CET
DTSTART:20211031T010000
END:STANDARD
BEGIN:DAYLIGHT
TZOFFSETFROM:+0100
TZOFFSETTO:+0200
TZNAME:CEST
DTSTART:20220327T010000
END:DAYLIGHT
BEGIN:STANDARD
TZOFFSETFROM:+0200
TZOFFSETTO:+0100
TZNAME:CET
DTSTART:20221030T010000
END:STANDARD
BEGIN:DAYLIGHT
TZOFFSETFROM:+0100
TZOFFSETTO:+0200
TZNAME:CEST
DTSTART:20230326T010000
END:DAYLIGHT
BEGIN:STANDARD
TZOFFSETFROM:+0200
TZOFFSETTO:+0100
TZNAME:CET
DTSTART:20231029T010000
END:STANDARD
END:VTIMEZONE
BEGIN:VEVENT
DTSTART;TZID=Europe/Amsterdam:20221213T190000
DTEND;TZID=Europe/Amsterdam:20221213T230000
DTSTAMP:20260422T012234
CREATED:20221103T142322Z
LAST-MODIFIED:20221103T142322Z
UID:736-1670958000-1670972400@duurzaamhintham.nl
SUMMARY:gemeenteraad
DESCRIPTION:
URL:https://duurzaamhintham.nl/event/gemeenteraad/
END:VEVENT
BEGIN:VEVENT
DTSTART;TZID=Europe/Amsterdam:20221128T190000
DTEND;TZID=Europe/Amsterdam:20221128T230000
DTSTAMP:20260422T012234
CREATED:20221103T142216Z
LAST-MODIFIED:20221103T142216Z
UID:734-1669662000-1669676400@duurzaamhintham.nl
SUMMARY:Commissie BEDRIJVIGHEID
DESCRIPTION:
URL:https://duurzaamhintham.nl/event/commissie-bedrijvigheid/
END:VEVENT
BEGIN:VEVENT
DTSTART;TZID=Europe/Amsterdam:20221123T200000
DTEND;TZID=Europe/Amsterdam:20221123T213000
DTSTAMP:20260422T012234
CREATED:20221031T094002Z
LAST-MODIFIED:20221031T094002Z
UID:666-1669233600-1669239000@duurzaamhintham.nl
SUMMARY:buurtbĳeenkomst Hintham-Noord\, uitkomsten project NXT
DESCRIPTION:Experts bekeken welke maatregelen nodig zĳn om de woningen geschikt te maken voor andere vormen van energie. De resultaten gelden globaal ook voor de andere woningen in Hintham-Noord.
URL:https://duurzaamhintham.nl/event/buurtbijeenkomst-hintham-noord-uitkomsten-project-nxt/
LOCATION:Businessclub fc den bosch\, Victorialaan 23\, 's-Hertogenbosch
END:VEVENT
BEGIN:VEVENT
DTSTART;TZID=Europe/Amsterdam:20221116T200000
DTEND;TZID=Europe/Amsterdam:20221116T213000
DTSTAMP:20260422T012234
CREATED:20221031T093837Z
LAST-MODIFIED:20221031T093837Z
UID:664-1668628800-1668634200@duurzaamhintham.nl
SUMMARY:buurtbĳeenkomst Oud-Hintham\, uitkomsten project NXT
DESCRIPTION:Experts bekeken welke maatregelen nodig zĳn om de woningen geschikt te maken voor andere vormen van energie. De resultaten gelden globaal ook voor de andere woningen in Oud-Hintham.
URL:https://duurzaamhintham.nl/event/buurtbijeenkomst-oud-hintham-uitkomsten-project-nxt/
LOCATION:Businessclub fc den bosch\, Victorialaan 23\, 's-Hertogenbosch
END:VEVENT
BEGIN:VEVENT
DTSTART;TZID=Europe/Amsterdam:20221102T200000
DTEND;TZID=Europe/Amsterdam:20221102T213000
DTSTAMP:20260422T012234
CREATED:20221031T092706Z
LAST-MODIFIED:20221107T113019Z
UID:653-1667419200-1667424600@duurzaamhintham.nl
SUMMARY:buurtbĳeenkomst Hintham-Zuid\, uitkomsten project NXT
DESCRIPTION:Experts bekeken welke maatregelen nodig zĳn om de woningen\ngeschikt te maken voor andere vormen van energie. De resultaten\ngelden globaal ook voor de andere woningen in Hintham-Zuid. \nbekijk hier de presentatie voor Hintham-Zuid  NXT Hintham-Zuid
URL:https://duurzaamhintham.nl/event/buurtbijeenkomst-hintham-zuid-uitkomsten-project-nxt/
LOCATION:Businessclub fc den bosch\, Victorialaan 23\, 's-Hertogenbosch
END:VEVENT
BEGIN:VEVENT
DTSTART;VALUE=DATE:20220310
DTEND;VALUE=DATE:20220311
DTSTAMP:20260422T012234
CREATED:20211123T111303Z
LAST-MODIFIED:20211130T214630Z
UID:278-1646870400-1646956799@duurzaamhintham.nl
SUMMARY:Congres Aardgasvrije Wijken | van leren naar opschalen
DESCRIPTION:VOORAANKONDIGING \n\nZet donderdag 10 maart 2022 vast in je agenda! Dan organiseert het Programma Aardgasvrije Wijken (PAW) de derde editie van het Congres Aardgasvrije Wijken in Congrescentrum NBC in Nieuwegein. Vanwege de coronamaatregelen heeft het congres een hybride vorm. \n  \nCongres Aardgasvrije Wijken | van leren naar opschalen \nHet congres draait ook dit keer om het delen van de vele ervaringen vanuit de proeftuinen aardgasvrije wijken. Daarnaast staan ook de plannen voor opschaling van de wijkgerichte aanpak op het programma. Wat zijn de laatste ontwikkelingen rond het versterken van de uitvoeringskracht van het Klimaatakkoord en wat is de betekenis voor PAW? Inmiddels raken de proeftuinen op stoom en selecteren we begin maart een laatste lichting proeftuinen. Op het congres maken we de selectie bekend. \nAanmelden medio januari 2022 \nBenieuwd? De officiële uitnodiging met daarin het programma voor het congres volgt begin volgend jaar. Vanaf dat moment opent ook de registratie. \n\n\nMet vriendelijke groet\, \n\nPAW-congresteam
URL:https://duurzaamhintham.nl/event/in-gesprek-met-essent-eneco/
END:VEVENT
BEGIN:VEVENT
DTSTART;TZID=Europe/Amsterdam:20211216T100000
DTEND;TZID=Europe/Amsterdam:20211216T110000
DTSTAMP:20260422T012234
CREATED:20211123T110914Z
LAST-MODIFIED:20211130T213748Z
UID:274-1639648800-1639652400@duurzaamhintham.nl
SUMMARY:Uitnodiging webinar ‘Wat je moet weten over participatie en communicatie aardgasvrij’
DESCRIPTION:Datum: Donderdag 16 december 2021 \nTijd: 10.00 – 11.00 uur \nHeb ik de basis van participatie op orde\, wat zijn de gouden regels en wat weten we al uit de praktijk? \nHeb jij deze vragen en sta je aan de lat om participatie bij het aardgasvrij maken van een wijk vorm te geven? Sluit dan aan bij het webinar ‘Wat je moet weten over participatie en communicatie aardgasvrij’. In dit webinar krijg je de basisprincipes aangereikt met praktijkvoorbeelden uit Hilversum en Zwolle\, aangevuld met theoretische achtergronden. Uiteraard is er ook alle gelegenheid om vragen te stellen en tips te delen. \nAan tafel schuiven aan: \n\nMarc Rijnveld –  Public Mediation (PM)\nSasja Schermer – gemeente Hilversum\nJoke Kok – gemeente Zwolle\nLieke van Son – Ministerie van BZK\n\nGraag zien we je 16 december om onder leiding van Erik Peekel mee te denken en te praten\, om inspiratie op te doen en je netwerk weer te ontmoeten! Je kunt je aanmelden via dit aanmeldformulier. \nMet vriendelijke groeten\, \nteam PAW Participatie en Communicatie \nwww.aardgasvrijewijken.nl
URL:https://duurzaamhintham.nl/event/bijeenkomst-januari/
END:VEVENT
BEGIN:VEVENT
DTSTART;TZID=Europe/Amsterdam:20211207T190000
DTEND;TZID=Europe/Amsterdam:20211207T233000
DTSTAMP:20260422T012234
CREATED:20211123T071809Z
LAST-MODIFIED:20211130T213800Z
UID:265-1638903600-1638919800@duurzaamhintham.nl
SUMMARY:gemeenteraad beslist over transitie visie warmte
DESCRIPTION:gezamelijke proefbuurten hebben een alternatief TVW ingediend
URL:https://duurzaamhintham.nl/event/bijeenkomst-december/
END:VEVENT
END:VCALENDAR